BEGIN:VCALENDAR
VERSION:2.0
METHOD:PUBLISH
PRODID:-//Agenda.ad//NONSGML v1.0//EN
BEGIN:VEVENT
CLASS:PUBLIC
UID:d4fff2842b6e7d905f3685e3de49f1af@agenda.ad
DTSTAMP:20260422T003954Z
DTSTART:20191017T220000Z
DTEND:20191017T220000Z
SUMMARY:<span>Concerts a La Fada &middot;&nbsp;<span>Junior Mackenzie</span></span>
DESCRIPTION:\n\nMés informació\nhttps://www.agenda.ad/activitat/andorr
 a-la-vella/musica/concerts-a-la-fada- junior-mackenzie\n\n\
 nOrganitza\nLa Fada Ignorant
LOCATION:La Fada Ignorant
SEQUENCE:0
TRANSP:OPAQUE
X-ALT-DESC;FMTTYPE=text/html:<!DOCTYPE HTML PUBLIC "-//W3C//DTD HTML 3.2//EN"><HTML><HEAD
 ><TITLE></TITLE></HEAD><BODY><FONT FACE="Arial" SIZE=2><br/>
 <br/><b>Més informació</b><br/><a href="https://www.agenda
 .ad/activitat/andorra-la-vella/musica/concerts-a-la-fada- j
 unior-mackenzie">https://www.agenda.ad/activitat/andorra-la-
 vella/musica/concerts-a-la-fada- junior-mackenzie</a><br/><
 br/><br/><b>Organitza</b><br/>La Fada Ignorant</FONT></BODY>
 </HTML>
END:VEVENT
END:VCALENDAR